BEGIN:VCALENDAR
VERSION:2.0
PRODID:-//Business &amp; Industry Today - ECPv6.15.18//NONSGML v1.0//EN
CALSCALE:GREGORIAN
METHOD:PUBLISH
X-WR-CALNAME:Business &amp; Industry Today
X-ORIGINAL-URL:https://www.businessandindustrytoday.co.uk
X-WR-CALDESC:Events for Business &amp; Industry Today
REFRESH-INTERVAL;VALUE=DURATION:PT1H
X-Robots-Tag:noindex
X-PUBLISHED-TTL:PT1H
BEGIN:VTIMEZONE
TZID:Europe/London
BEGIN:DAYLIGHT
TZOFFSETFROM:+0000
TZOFFSETTO:+0100
TZNAME:BST
DTSTART:20220327T010000
END:DAYLIGHT
BEGIN:STANDARD
TZOFFSETFROM:+0100
TZOFFSETTO:+0000
TZNAME:GMT
DTSTART:20221030T010000
END:STANDARD
BEGIN:DAYLIGHT
TZOFFSETFROM:+0000
TZOFFSETTO:+0100
TZNAME:BST
DTSTART:20230326T010000
END:DAYLIGHT
BEGIN:STANDARD
TZOFFSETFROM:+0100
TZOFFSETTO:+0000
TZNAME:GMT
DTSTART:20231029T010000
END:STANDARD
BEGIN:DAYLIGHT
TZOFFSETFROM:+0000
TZOFFSETTO:+0100
TZNAME:BST
DTSTART:20240331T010000
END:DAYLIGHT
BEGIN:STANDARD
TZOFFSETFROM:+0100
TZOFFSETTO:+0000
TZNAME:GMT
DTSTART:20241027T010000
END:STANDARD
BEGIN:DAYLIGHT
TZOFFSETFROM:+0000
TZOFFSETTO:+0100
TZNAME:BST
DTSTART:20250330T010000
END:DAYLIGHT
BEGIN:STANDARD
TZOFFSETFROM:+0100
TZOFFSETTO:+0000
TZNAME:GMT
DTSTART:20251026T010000
END:STANDARD
END:VTIMEZONE
BEGIN:VEVENT
DTSTART;TZID=Europe/London:20240117T083000
DTEND;TZID=Europe/London:20240118T173000
DTSTAMP:20260420T091056
CREATED:20231010T132828Z
LAST-MODIFIED:20240223T132234Z
UID:4905-1705480200-1705599000@www.businessandindustrytoday.co.uk
SUMMARY:LAMMA 2024
DESCRIPTION:LAMMA is the UK’s  premier  farm machinery show which connects farmers across a range of sectors with pioneering companies offering cutting-edge agricultural machinery\, technology and equipment. \nExplore the dynamic showcase featuring more than 600 exhibitors unveiling the latest innovations in tractors\, combines\, arable and grassland machinery and embrace the opportunity to look at a wide range of new technology\, services and tools tailored to all sectors of agriculture. \nWitness exclusive machinery launches\, UK debuts and a collective display of both global brands and niche manufacturers\, all under one roof. \nGather your team and attend LAMMA 2024 to embrace opportunities to network\, do business\, conduct market research and enrich knowledge with the insights from experts.
URL:https://www.businessandindustrytoday.co.uk/event/lamma-2024/
LOCATION:NEC\, Pendigo Way\, Marston Green\, Birmingham\, West Midlands\, B40 1NT\, United Kingdom
ATTACH;FMTTYPE=image/jpeg:https://www.businessandindustrytoday.co.uk/wp-content/uploads/2023/10/LAMMA2023_383_01.jpg
ORGANIZER;CN="Agriconnect Ltd":MAILTO:sales@agriconnect.com
END:VEVENT
BEGIN:VEVENT
DTSTART;TZID=Europe/London:20231101T080000
DTEND;TZID=Europe/London:20231102T170000
DTSTAMP:20260420T091056
CREATED:20231016T090914Z
LAST-MODIFIED:20240223T132252Z
UID:4924-1698825600-1698944400@www.businessandindustrytoday.co.uk
SUMMARY:Advanced Engineering
DESCRIPTION:Explore the UK’s leading showcase of the latest advances in engineering to inspire you. Learn how to grow in an ever-competitive global market. \nCovering all sectors and points of the supply chain\, this is the event you can’t afford to miss. Register today for your free pass to Advanced Engineering 2023! \n\n\n\nAdvanced Engineering is your one-stop shop for networking\, discovering new suppliers\, learning and connecting with your industry. With 8\,800+ attendees\, 400+ suppliers and 4 forums on the show floor\, there is something for everyone\, no matter your job function or industry. \nWith a bespoke show app we make it easy for you to discover the suppliers you’re looking for\, arrange meetings and visit relevant forum sessions by building your own custom agenda. We save you time as the central hub for engineering in the UK. Make sure to register free today to confirm your place!
URL:https://www.businessandindustrytoday.co.uk/event/advanced-engineering/
LOCATION:NEC\, Pendigo Way\, Marston Green\, Birmingham\, West Midlands\, B40 1NT\, United Kingdom
ATTACH;FMTTYPE=image/jpeg:https://www.businessandindustrytoday.co.uk/wp-content/uploads/2023/10/AdvancedEngineering_719_01.jpg
END:VEVENT
END:VCALENDAR