BEGIN:VCALENDAR
VERSION:2.0
PRODID:-//Business &amp; Industry Today - ECPv6.15.18//NONSGML v1.0//EN
CALSCALE:GREGORIAN
METHOD:PUBLISH
X-WR-CALNAME:Business &amp; Industry Today
X-ORIGINAL-URL:https://www.businessandindustrytoday.co.uk
X-WR-CALDESC:Events for Business &amp; Industry Today
REFRESH-INTERVAL;VALUE=DURATION:PT1H
X-Robots-Tag:noindex
X-PUBLISHED-TTL:PT1H
BEGIN:VTIMEZONE
TZID:Europe/London
BEGIN:DAYLIGHT
TZOFFSETFROM:+0000
TZOFFSETTO:+0100
TZNAME:BST
DTSTART:20230326T010000
END:DAYLIGHT
BEGIN:STANDARD
TZOFFSETFROM:+0100
TZOFFSETTO:+0000
TZNAME:GMT
DTSTART:20231029T010000
END:STANDARD
BEGIN:DAYLIGHT
TZOFFSETFROM:+0000
TZOFFSETTO:+0100
TZNAME:BST
DTSTART:20240331T010000
END:DAYLIGHT
BEGIN:STANDARD
TZOFFSETFROM:+0100
TZOFFSETTO:+0000
TZNAME:GMT
DTSTART:20241027T010000
END:STANDARD
BEGIN:DAYLIGHT
TZOFFSETFROM:+0000
TZOFFSETTO:+0100
TZNAME:BST
DTSTART:20250330T010000
END:DAYLIGHT
BEGIN:STANDARD
TZOFFSETFROM:+0100
TZOFFSETTO:+0000
TZNAME:GMT
DTSTART:20251026T010000
END:STANDARD
END:VTIMEZONE
BEGIN:VEVENT
DTSTART;TZID=Europe/London:20240515T080000
DTEND;TZID=Europe/London:20240516T170000
DTSTAMP:20260421T041811
CREATED:20231031T162253Z
LAST-MODIFIED:20240223T131838Z
UID:4969-1715760000-1715878800@www.businessandindustrytoday.co.uk
SUMMARY:Accountex London
DESCRIPTION:Accountex has everything you\, and your business\, need to succeed. It brings together over 295 top fintech companies and provides a CPD accredited education programme. \nYou can see software demos from major fintech brands and cutting-edge start ups. The brightest minds in the business will show you how to navigate challenges and where to find opportunities for growth. You will walk away with new ideas and feeling confident about the future. \nIt’s completely free to visit. And you get up to 16 CPD points for attending. \nDiscover over 295 software and service suppliers including Sage\, FreeAgent\, Intuit Quickbooks and Xero\, as well as new companies breaking the mould. Alongside the exhibition\, you will find 13 theatres featuring expert speakers and the most critical thinkers in accountancy and finance. \nSign up to our mailing list and be the first to receive updates when registration opens.
URL:https://www.businessandindustrytoday.co.uk/event/accountex-london/
LOCATION:ExCeL\, Royal Victoria Dock\, London\, E16 1XL\, United Kingdom
ATTACH;FMTTYPE=image/jpeg:https://www.businessandindustrytoday.co.uk/wp-content/uploads/2023/10/Accountex_386_02.jpg
ORGANIZER;CN="Diversified Communications":MAILTO:info@divcom.co.uk
END:VEVENT
BEGIN:VEVENT
DTSTART;TZID=Europe/London:20240515T080000
DTEND;TZID=Europe/London:20240516T170000
DTSTAMP:20260421T041811
CREATED:20231108T152500Z
LAST-MODIFIED:20240223T131825Z
UID:4997-1715760000-1715878800@www.businessandindustrytoday.co.uk
SUMMARY:The Advanced Materials Show
DESCRIPTION:The Advanced Materials Show is a showcase of materials with exceptional properties for engineering and electronic applications\, along with the technologies used to develop them. \nThe event brings together leaders in R&D\, engineering\, science and innovation to share knowledge and learn how to improve advanced materials with particular focus on properties such as: Lightweighting\, Conductivity\, Durability\, Thermal Resilience and Strength. \nCo-located with The Advanced Ceramics Show\, Battery Cells & Systems Expo and Vehicle Electrification Expo\, the four shows will welcome over 300+ exhibitors and 4\,000 visitors in May 2024. \nThe Advanced Materials Show\, The Advanced Ceramics Show\, Battery Cells & Systems Expo and Vehicle Electrification Expo bring together four connected industries for two days of networking\, lead generation and education at the NEC\, Birmingham. A four-track\, free conference featuring global experts covers the latest innovations and developments across these four exciting industries.
URL:https://www.businessandindustrytoday.co.uk/event/the-advanced-materials-show/
LOCATION:NEC\, Pendigo Way\, Marston Green\, Birmingham\, West Midlands\, B40 1NT\, United Kingdom
ATTACH;FMTTYPE=image/jpeg:https://www.businessandindustrytoday.co.uk/wp-content/uploads/2023/11/VehicleElectrificationExpo_387_03.jpg
END:VEVENT
BEGIN:VEVENT
DTSTART;TZID=Europe/London:20240515T080000
DTEND;TZID=Europe/London:20240516T170000
DTSTAMP:20260421T041811
CREATED:20231130T140502Z
LAST-MODIFIED:20240223T131805Z
UID:5043-1715760000-1715878800@www.businessandindustrytoday.co.uk
SUMMARY:Vehicle Electrification Expo
DESCRIPTION:Vehicle Electrification Expo enables automotive manufacturers to look at the latest powertrain solutions to improve the performance\, efficiency\, safety and sustainability of vehicles including light electric vehicles\, passenger cars\, commercial vehicles\, buses and off-highway industrial vehicles. The show will bring together the entire supply chain involved in electric and hybrid vehicle manufacture and development showcasing the very latest technologies for this rapidly growing market. \nCo-located with Battery Cells and Systems Expo\, The Advanced Materials Show\, and The Advanced Ceramics Show we will welcome 300+ exhibitors and 4\,000 visitors in May 2024. \nVehicle Electrification Expo\, Battery Cells & Systems Expo\, The Advanced Materials Show and The Advanced Ceramics Show bring together four connected industries for two days of networking\, lead generation and education at the NEC\, Birmingham. A four-track\, free conference featuring global experts covers the latest innovations and developments across these four exciting industries.
URL:https://www.businessandindustrytoday.co.uk/event/vehicle-electrification-expo/
LOCATION:NEC\, Pendigo Way\, Marston Green\, Birmingham\, West Midlands\, B40 1NT\, United Kingdom
ATTACH;FMTTYPE=image/jpeg:https://www.businessandindustrytoday.co.uk/wp-content/uploads/2023/11/VehicleElectrificationExpo_387_01.jpg
END:VEVENT
END:VCALENDAR