BEGIN:VCALENDAR
VERSION:2.0
PRODID:-//Business &amp; Industry Today - ECPv6.15.18//NONSGML v1.0//EN
CALSCALE:GREGORIAN
METHOD:PUBLISH
X-WR-CALNAME:Business &amp; Industry Today
X-ORIGINAL-URL:https://www.businessandindustrytoday.co.uk
X-WR-CALDESC:Events for Business &amp; Industry Today
REFRESH-INTERVAL;VALUE=DURATION:PT1H
X-Robots-Tag:noindex
X-PUBLISHED-TTL:PT1H
BEGIN:VTIMEZONE
TZID:Europe/London
BEGIN:DAYLIGHT
TZOFFSETFROM:+0000
TZOFFSETTO:+0100
TZNAME:BST
DTSTART:20230326T010000
END:DAYLIGHT
BEGIN:STANDARD
TZOFFSETFROM:+0100
TZOFFSETTO:+0000
TZNAME:GMT
DTSTART:20231029T010000
END:STANDARD
BEGIN:DAYLIGHT
TZOFFSETFROM:+0000
TZOFFSETTO:+0100
TZNAME:BST
DTSTART:20240331T010000
END:DAYLIGHT
BEGIN:STANDARD
TZOFFSETFROM:+0100
TZOFFSETTO:+0000
TZNAME:GMT
DTSTART:20241027T010000
END:STANDARD
BEGIN:DAYLIGHT
TZOFFSETFROM:+0000
TZOFFSETTO:+0100
TZNAME:BST
DTSTART:20250330T010000
END:DAYLIGHT
BEGIN:STANDARD
TZOFFSETFROM:+0100
TZOFFSETTO:+0000
TZNAME:GMT
DTSTART:20251026T010000
END:STANDARD
END:VTIMEZONE
BEGIN:VEVENT
DTSTART;TZID=Europe/London:20240604T093000
DTEND;TZID=Europe/London:20240606T173000
DTSTAMP:20260421T024607
CREATED:20231130T154204Z
LAST-MODIFIED:20240223T131750Z
UID:5051-1717493400-1717695000@www.businessandindustrytoday.co.uk
SUMMARY:Infosecurity Europe
DESCRIPTION:Infosecurity Europe keeps you connected with everyone in information security. The brightest minds\, from engineers to innovators. We keep you up to date on everything about information security. From the past battles we’ve won to the present. Join us as we rethink the power of infosecurity and discover what that may mean to you. \nEquipping yourself and your business with the correct cybersecurity knowledge and infosec tools has never been more important. At Infosecurity Europe we work with you to find effective information security solutions for complex threat environments. \nWhether your aim is to increase brand awareness\, generate powerful new business leads or strengthen your business network\, Infosecurity Europe is the place to elevate your business with key decision makers from the IT security world and beyond. \nOur curated conference program allows you to access all the information you need to make knowledge-based Cyber defence decisions for your organisation. Join us to boost your cyber threat intelligence and become Smarter\, Safer & Stronger.
URL:https://www.businessandindustrytoday.co.uk/event/infosecurity-europe/
LOCATION:ExCeL\, Royal Victoria Dock\, London\, E16 1XL\, United Kingdom
ATTACH;FMTTYPE=image/jpeg:https://www.businessandindustrytoday.co.uk/wp-content/uploads/2023/11/InfosecurityEurope_387_01.jpg
ORGANIZER;CN="Reed Exhibitions Limited":MAILTO:rxinfo@rxglobal.com
END:VEVENT
BEGIN:VEVENT
DTSTART;TZID=Europe/London:20240611T100000
DTEND;TZID=Europe/London:20240613T170000
DTSTAMP:20260421T024607
CREATED:20231130T144326Z
LAST-MODIFIED:20240223T131735Z
UID:5048-1718100000-1718298000@www.businessandindustrytoday.co.uk
SUMMARY:Multimodal
DESCRIPTION:Since 2008\, Multimodal has been successfully building a supply chain and logistics community of shippers\,  retailers\, manufacturers\, wholesalers\, importers  and  exporters  and  the suppliers who support them. \nMultimodal is the industry’s annual meeting place where cargo owners and shippers attend to find ways to improve their supply chains and discover innovative ideas to solve their transport and logistics issues. Over 300 companies exhibited at Multimodal offering solutions across all modes together with the latest technological advances to help you make your supply chains more cost effective and more efficient. \nMultimodal 2023 was an all round amazing success with visitors up some 22% on the previous year. Feedback from both exhibitors and visitors alike has been outstanding. The free to attend conference streams were well respected across the industry with a theme of Sustainability\, resilience\, technology and people. Sessions presented by Logistics UK\, IOE&IT\, RFG\, BIFA\, UKWA and more\, ensured that topical aspects are at the forefront of the sessions and delivered by top-level speakers. Google Digital Garage presented three days of social and digitial marketing and provided one-to-one mentoring opportunities. \nMultimodal 2024 has got off to a fantastic start with rebookings for exhibition space surging through the roof. Watch this space for exciting plans for the 2024 show coming soon.
URL:https://www.businessandindustrytoday.co.uk/event/multimodal/
LOCATION:NEC\, Pendigo Way\, Marston Green\, Birmingham\, West Midlands\, B40 1NT\, United Kingdom
ATTACH;FMTTYPE=image/jpeg:https://www.businessandindustrytoday.co.uk/wp-content/uploads/2023/11/Multimodal_387_01.jpg
ORGANIZER;CN="Clarion Events":MAILTO:info@clarionevents.com
END:VEVENT
BEGIN:VEVENT
DTSTART;TZID=Europe/London:20240620T090000
DTEND;TZID=Europe/London:20240620T170000
DTSTAMP:20260421T024607
CREATED:20231031T140151Z
LAST-MODIFIED:20240223T131724Z
UID:4961-1718874000-1718902800@www.businessandindustrytoday.co.uk
SUMMARY:Tomorrow's Warehouse Event
DESCRIPTION:Tomorrow’s Warehouse is a one-day\, free-to-attend conference tackling operational challenges in warehousing and logistics at a time of upheaval. It aims to ignite enthusiasm in today’s warehouse\, allowing managers to embrace the positives of the great technological mega-trends that are sweeping over logistics. \nNo doubt you are feeling some pain in your operations\, whether it is a lack of warehouse space\, throughput bottlenecks\, skill shortages\, a need for solutions that will help meet sustainability goals\, or many other challenges that are typical in the modern warehouse. \nThe Tomorrow’s Warehouse conference will help with all of this\, providing insights and market trends from a range of expert speakers\, and giving you the opportunity to network with your peers. We take pride in providing answers and takeaways that have real practical benefits. We have a plethora of partners on site who can help boost your processes and projects with a dazzling array of clever and useful solutions.
URL:https://www.businessandindustrytoday.co.uk/event/tomorrows-warehouse-event/
LOCATION:Coventry Building Society Arena\, Judds Lane\, Longford\, Coventry\, CV6 6AQ\, United Kingdom
ATTACH;FMTTYPE=image/jpeg:https://www.businessandindustrytoday.co.uk/wp-content/uploads/2023/10/TomorrowsWarehouseEvent_386_01.jpg
ORGANIZER;CN="Western Business Media Limited":MAILTO:marketing@westernbusiness.media
END:VEVENT
BEGIN:VEVENT
DTSTART;TZID=Europe/London:20240625T090000
DTEND;TZID=Europe/London:20240627T160000
DTSTAMP:20260421T024607
CREATED:20240402T144723Z
LAST-MODIFIED:20240402T144723Z
UID:5275-1719306000-1719504000@www.businessandindustrytoday.co.uk
SUMMARY:Hillhead
DESCRIPTION:Our 2024 show builds on a record-breaking 2022 which hosted over 600 exhibiting companies\, enjoyed by 18\,500 unique visitors. \nThe newly renamed Showground Pavilion will be extended to accommodate even more indoor exhibits\, alongside an exciting new refreshments area and networking hub\, whilst additional outdoor space for exhibitors has been created adjacent to the Registration Pavilion. \nMeanwhile\, four live demonstration areas will continue to showcase the very latest equipment in a real-life quarry environment. \nThree days of live demonstrations\, over 600 exhibitors and thousands of products for the quarrying\, construction and recycling industries. \nPut your products and services in front of nearly 20\,000 industry visitors from across the quarrying\, construction and recycling sectors. \nThe working demonstration areas are what make Hillhead unique. Having the opportunity to see plant and equipment doing a real ‘job of work’ in a live quarry environment is invaluable for both exhibitors and visitors alike.
URL:https://www.businessandindustrytoday.co.uk/event/hillhead/
LOCATION:Hillhead Quarry\, Harpur Hill\, Nr Buxton\, Derbyshire\, SK17 9PR\, United Kingdom
ATTACH;FMTTYPE=image/jpeg:https://www.businessandindustrytoday.co.uk/wp-content/uploads/2024/04/Hillhead_454_01.jpg
ORGANIZER;CN="The QMJ Group Ltd":MAILTO:hillhead@qmj.co.uk
END:VEVENT
BEGIN:VEVENT
DTSTART;TZID=Europe/London:20240625T090000
DTEND;TZID=Europe/London:20240627T180000
DTSTAMP:20260421T024607
CREATED:20231101T105014Z
LAST-MODIFIED:20240223T131714Z
UID:4979-1719306000-1719511200@www.businessandindustrytoday.co.uk
SUMMARY:Glee
DESCRIPTION:Whether you’re a budding start-up\, or an established brand\, we’ve got a spot for you at the international festival for garden\, pet and leisure! \nFor 50 years\, Glee has nurtured the art of garden retail to become the UK’s leading garden and outdoor living trade show. As the central hub for the garden industry\, Glee gives exhibitors an essential opportunity to connect with key\, purchase-ready buyers. \nKnown as the destination for discovery\, Glee hosts thousands of products across 10 show sectors\, attracting influential visitors from garden centres\, multiples\, independents and online retailers. Whether you’re looking to nurture existing relationships or grow new ones\, Glee gives you a unique platform to meet and network with the entire industry\, face-to-face. \nOur show is carefully curated to put you in the best position to be discovered by the buyers that matter most to your business. It’s the perfect platform to launch new products\, discuss ideas and increase brand awareness. From exhibitor toolkits to the innovators zone\, our awards and initiatives are designed to celebrate and promote your brand! \nHeld at the NEC Birmingham from 25-27 June 2024\, Glee brings British\, European and international markets together under one roof to showcase exciting brands\, innovative products and valuable insights. \nFind out more about exhibiting at Glee 2024\, visit: www.gleebirmingham.com/why-exhibit
URL:https://www.businessandindustrytoday.co.uk/event/glee/
LOCATION:NEC\, Pendigo Way\, Marston Green\, Birmingham\, West Midlands\, B40 1NT\, United Kingdom
ATTACH;FMTTYPE=image/jpeg:https://www.businessandindustrytoday.co.uk/wp-content/uploads/2023/11/Glee_386_02.jpg
END:VEVENT
END:VCALENDAR