BEGIN:VCALENDAR
VERSION:2.0
PRODID:-//Business &amp; Industry Today - ECPv6.15.18//NONSGML v1.0//EN
CALSCALE:GREGORIAN
METHOD:PUBLISH
X-ORIGINAL-URL:https://www.businessandindustrytoday.co.uk
X-WR-CALDESC:Events for Business &amp; Industry Today
REFRESH-INTERVAL;VALUE=DURATION:PT1H
X-Robots-Tag:noindex
X-PUBLISHED-TTL:PT1H
BEGIN:VTIMEZONE
TZID:Europe/London
BEGIN:DAYLIGHT
TZOFFSETFROM:+0000
TZOFFSETTO:+0100
TZNAME:BST
DTSTART:20230326T010000
END:DAYLIGHT
BEGIN:STANDARD
TZOFFSETFROM:+0100
TZOFFSETTO:+0000
TZNAME:GMT
DTSTART:20231029T010000
END:STANDARD
BEGIN:DAYLIGHT
TZOFFSETFROM:+0000
TZOFFSETTO:+0100
TZNAME:BST
DTSTART:20240331T010000
END:DAYLIGHT
BEGIN:STANDARD
TZOFFSETFROM:+0100
TZOFFSETTO:+0000
TZNAME:GMT
DTSTART:20241027T010000
END:STANDARD
BEGIN:DAYLIGHT
TZOFFSETFROM:+0000
TZOFFSETTO:+0100
TZNAME:BST
DTSTART:20250330T010000
END:DAYLIGHT
BEGIN:STANDARD
TZOFFSETFROM:+0100
TZOFFSETTO:+0000
TZNAME:GMT
DTSTART:20251026T010000
END:STANDARD
END:VTIMEZONE
BEGIN:VEVENT
DTSTART;TZID=Europe/London:20241002T090000
DTEND;TZID=Europe/London:20241002T170000
DTSTAMP:20260420T202921
CREATED:20231031T142708Z
LAST-MODIFIED:20240223T131554Z
UID:4966-1727859600-1727888400@www.businessandindustrytoday.co.uk
SUMMARY:Tomorrow's Warehouse Event
DESCRIPTION:Tomorrow’s Warehouse Manchester is a one-day\, free-to-attend conference tackling operational challenges in warehousing and logistics at a time of upheaval. It aims to ignite enthusiasm in today’s warehouse\, allowing managers to embrace the positives of the great technological mega-trends that are sweeping over logistics. \nNo doubt you are feeling some pain in your operations\, whether it is a lack of warehouse space\, throughput bottlenecks\, skill shortages\, a need for solutions that will help meet sustainability goals\, or many other challenges that are typical in the modern warehouse. \nThe Tomorrow’s Warehouse Manchester conference will help with all of this\, providing insights and market trends from a range of expert speakers\, and giving you the opportunity to network with your peers. We take pride in providing answers and takeaways that have real practical benefits. We have a plethora of partners on site who can help boost your processes and projects with a dazzling array of clever and useful solutions.
URL:https://www.businessandindustrytoday.co.uk/event/tomorrows-warehouse-event-2/
LOCATION:Emirates Old Traffic Cricket Ground\, Talbot Road\, Old Trafford\, Stretford\, Manchester\, M16 0PX\, United Kingdom
ATTACH;FMTTYPE=image/jpeg:https://www.businessandindustrytoday.co.uk/wp-content/uploads/2023/10/TomorrowsWarehouseEvent_386_02.jpg
ORGANIZER;CN="Western Business Media Limited":MAILTO:marketing@westernbusiness.media
END:VEVENT
BEGIN:VEVENT
DTSTART;TZID=Europe/London:20241008T090000
DTEND;TZID=Europe/London:20241009T170000
DTSTAMP:20260420T202921
CREATED:20240131T141959Z
LAST-MODIFIED:20240223T131544Z
UID:5192-1728378000-1728493200@www.businessandindustrytoday.co.uk
SUMMARY:World of Learning Conference & Exhibition
DESCRIPTION:The World of Learning Conference & Exhibition is a two-day event that brings together leading experts\, brands and professionals from the L&D community under one-roof. Taking place at the NEC\, Birmingham\, the World of Learning Conference & Exhibition is an unrivalled opportunity for L&D professionals to learn\, discover\, interact\, and network. \nThe carefully curated conference programme offers delegates the opportunity to hear from thought-leaders from the L&D community\, in an informative yet informal setting. Combining a mix of interactive presentations\, thought-provoking panel sessions\, and lively debates\, delegates come away with practical solutions and fresh ideas they apply within their own businesses. Discover the delegate packages here. \n\n\nAlongside the conference is the free-to attend exhibition which brings together leading L&D suppliers who can help support\, develop\, and launch your learning and development business objectives. The exhibition is a brilliant opportunity to discover and sample new ways of working or ways to revamp your current practices. Take a look at who’s exhibiting at the NEC\, Birmingham. \nAs a visitor you will also have access to a whole host of free seminars\, sessions\, and interactive zones including: the mental wellbeing zone\, the business & networking lounge\, Learning Design Live\, the Life Skills Library\, and the Live Demo Zone. Register to attend today!
URL:https://www.businessandindustrytoday.co.uk/event/world-of-learning-conference-exhibition/
LOCATION:NEC\, Pendigo Way\, Marston Green\, Birmingham\, West Midlands\, B40 1NT\, United Kingdom
ATTACH;FMTTYPE=image/jpeg:https://www.businessandindustrytoday.co.uk/wp-content/uploads/2024/01/WorldOfLearning_389_01.jpg
END:VEVENT
BEGIN:VEVENT
DTSTART;TZID=Europe/London:20241009T100000
DTEND;TZID=Europe/London:20241010T160000
DTSTAMP:20260420T202921
CREATED:20231016T102336Z
LAST-MODIFIED:20240223T131533Z
UID:4939-1728468000-1728576000@www.businessandindustrytoday.co.uk
SUMMARY:Engineering Design Show
DESCRIPTION:The Engineering Design Show (EDS) will return to The Coventry Building Society Arena on the 9th – 10th of October 2024. \nEDS has been showcasing the very best of mechanical\, electronics and embedded design for over a decade. It is THE show for design engineers who are looking for direct access to the latest products\, services and innovations available to the sector. \nFind the solution to your design dilemma at an exhibition of over 200 solution providers\, boost your professional development at free-to-attend conference sessions\, get expert advice at practical workshops\, and discover the latest engineering applications and technologies at EDS. \nFor over a decade\, EDS has been delivering engineering buyers\, not browsers\, and is a must attend event for anyone wanting to access this difficult to reach audience. Exhibiting at EDS is the most effective way of maximising your organisation’s exposure to the UK’s design engineering community.
URL:https://www.businessandindustrytoday.co.uk/event/engineering-design-show/
LOCATION:Coventry Building Society Arena\, Judds Lane\, Longford\, Coventry\, CV6 6AQ\, United Kingdom
ATTACH;FMTTYPE=image/jpeg:https://www.businessandindustrytoday.co.uk/wp-content/uploads/2023/10/EngineeringDesign_385_01.jpg
END:VEVENT
BEGIN:VEVENT
DTSTART;TZID=Europe/London:20241015T090000
DTEND;TZID=Europe/London:20241116T170000
DTSTAMP:20260420T202921
CREATED:20240205T134102Z
LAST-MODIFIED:20240223T131522Z
UID:5207-1728982800-1731776400@www.businessandindustrytoday.co.uk
SUMMARY:Hospitality Tech Expo
DESCRIPTION:From EPOS\, online ordering\, workforce management and payment solutions to digital signage and technology for cooking\, the Hospitality Tech Expo brings the whole hospitality industry together\, making it the event to be! \nHear from the professionals who will bring the latest from the hospitality tech sector\, as well as industry leaders who will give you their take on what’s going to be changing the industry for the better in 2024. Our Keynote Speakers will offer you invaluable advice and will use their knowledge and expertise to help you grow your business. Make sure you don’t miss out!
URL:https://www.businessandindustrytoday.co.uk/event/hospitality-tech-expo/
LOCATION:ExCeL\, Royal Victoria Dock\, London\, E16 1XL\, United Kingdom
ATTACH;FMTTYPE=image/jpeg:https://www.businessandindustrytoday.co.uk/wp-content/uploads/2024/02/HTE_389_01.jpg
ORGANIZER;CN="Fortem Food & Drink Ltd":MAILTO:enquiries.rbtl@fortem-international.com
END:VEVENT
BEGIN:VEVENT
DTSTART;TZID=Europe/London:20241016T090000
DTEND;TZID=Europe/London:20241017T170000
DTSTAMP:20260420T202921
CREATED:20240202T130257Z
LAST-MODIFIED:20240223T131506Z
UID:5196-1729069200-1729184400@www.businessandindustrytoday.co.uk
SUMMARY:LiftEx 2024
DESCRIPTION:LiftEx\, the essential annual exhibition for the lifting equipment industry\, is now in its 19th year. \nFollowing the success of the 2023 show in Liverpool\, which saw a record number of end user visitors\, the event is coming to London for 2024\, on the 16th & 17th October. \nSuppliers of lifting and height safety equipment\, will demo their products on the show floor\, including: \n\nLifting equipment solutions such as mobile cranes\, hoists\, gantries\nManufacturers of lifting equipment\nInspection companies\nMaterials handling equipment\nLoad monitoring equipment\nTest machinery\nChains\, hooks\, wire ropes and accessories\nSlings and rigging\nInspection software e-learning training solutions\n\nThese exhibitors will be back in 2024: \n“LiftEx 2023 was the busiest and best yet for Modulift.  Our exhibition stand was buzzing from start to finish\, with new and familiar faces from around the world and a significant number of end user visitors too.  We’re already looking forward to next year’s event”.  \nTessa Aindow\, Marketing Manager\, Modulift\n\n“Our experience at LiftEx 2023 was exceptional. We were impressed by the number of genuine industry contacts and the overall quality of visitors. The event was well run and provided us with a good source of new opportunities\, paving the way for some great business partnerships in the new year”.  \nMarcel Blake\, Co-Founder\, Core Inspection Software \nIf your role requires you to operate lifting equipment in any sector – construction\, oil & gas\, energy\, offshore\, road & maritime transport\, utilities\, rail\, renewable energy\, civil engineering\, entertainment\, manufacturing – this is the event for you. At the show you’ll meet suppliers of the very latest lifting equipment\, see cutting-edge technologies\, gain access to training and keep up to date with the latest innnovations in the industry. \nThis is the annual global event for the lifting industry\, hosted by the Lifting Equipment Engineers Association\, the leading trade association for all those involved in the lifting industry. This year’s show will include in the region of 100 exhibiting brands\, approximatley 1\,500 professional visitors\, 2 days of knowledge sharing and training\, as well as the celebrated LEEA Awards.
URL:https://www.businessandindustrytoday.co.uk/event/liftex-2024/
LOCATION:Olympia London\, Hammersmith Road\, Kensington\, London\, W14 8UX\, United Kingdom
ATTACH;FMTTYPE=image/jpeg:https://www.businessandindustrytoday.co.uk/wp-content/uploads/2024/02/LiftEx_389_01.jpg
ORGANIZER;CN="LEEA Events":MAILTO:enquiries@l2events.com
END:VEVENT
END:VCALENDAR