BEGIN:VCALENDAR
VERSION:2.0
PRODID:-//Business &amp; Industry Today - ECPv6.15.18//NONSGML v1.0//EN
CALSCALE:GREGORIAN
METHOD:PUBLISH
X-WR-CALNAME:Business &amp; Industry Today
X-ORIGINAL-URL:https://www.businessandindustrytoday.co.uk
X-WR-CALDESC:Events for Business &amp; Industry Today
REFRESH-INTERVAL;VALUE=DURATION:PT1H
X-Robots-Tag:noindex
X-PUBLISHED-TTL:PT1H
BEGIN:VTIMEZONE
TZID:Europe/London
BEGIN:DAYLIGHT
TZOFFSETFROM:+0000
TZOFFSETTO:+0100
TZNAME:BST
DTSTART:20230326T010000
END:DAYLIGHT
BEGIN:STANDARD
TZOFFSETFROM:+0100
TZOFFSETTO:+0000
TZNAME:GMT
DTSTART:20231029T010000
END:STANDARD
BEGIN:DAYLIGHT
TZOFFSETFROM:+0000
TZOFFSETTO:+0100
TZNAME:BST
DTSTART:20240331T010000
END:DAYLIGHT
BEGIN:STANDARD
TZOFFSETFROM:+0100
TZOFFSETTO:+0000
TZNAME:GMT
DTSTART:20241027T010000
END:STANDARD
BEGIN:DAYLIGHT
TZOFFSETFROM:+0000
TZOFFSETTO:+0100
TZNAME:BST
DTSTART:20250330T010000
END:DAYLIGHT
BEGIN:STANDARD
TZOFFSETFROM:+0100
TZOFFSETTO:+0000
TZNAME:GMT
DTSTART:20251026T010000
END:STANDARD
END:VTIMEZONE
BEGIN:VEVENT
DTSTART;TZID=Europe/London:20241015T090000
DTEND;TZID=Europe/London:20241116T170000
DTSTAMP:20260420T184834
CREATED:20240205T134102Z
LAST-MODIFIED:20240223T131522Z
UID:5207-1728982800-1731776400@www.businessandindustrytoday.co.uk
SUMMARY:Hospitality Tech Expo
DESCRIPTION:From EPOS\, online ordering\, workforce management and payment solutions to digital signage and technology for cooking\, the Hospitality Tech Expo brings the whole hospitality industry together\, making it the event to be! \nHear from the professionals who will bring the latest from the hospitality tech sector\, as well as industry leaders who will give you their take on what’s going to be changing the industry for the better in 2024. Our Keynote Speakers will offer you invaluable advice and will use their knowledge and expertise to help you grow your business. Make sure you don’t miss out!
URL:https://www.businessandindustrytoday.co.uk/event/hospitality-tech-expo/
LOCATION:ExCeL\, Royal Victoria Dock\, London\, E16 1XL\, United Kingdom
ATTACH;FMTTYPE=image/jpeg:https://www.businessandindustrytoday.co.uk/wp-content/uploads/2024/02/HTE_389_01.jpg
ORGANIZER;CN="Fortem Food & Drink Ltd":MAILTO:enquiries.rbtl@fortem-international.com
END:VEVENT
BEGIN:VEVENT
DTSTART;TZID=Europe/London:20241106T090000
DTEND;TZID=Europe/London:20241107T160000
DTSTAMP:20260420T184834
CREATED:20240220T152714Z
LAST-MODIFIED:20240223T131454Z
UID:5229-1730883600-1730995200@www.businessandindustrytoday.co.uk
SUMMARY:Land\, Leisure & Tourism Show
DESCRIPTION:Discover the future of land\, leisure\, and tourism at the first-ever Land\, Leisure\, and Tourism Show on November 6 – 7\, 2024\, at The NEC\, Birmingham. \nBreaking barriers between industries\, this event fosters collaboration and cross-pollination of ideas to create a vibrant space where professionals redefine tomorrow. Join us for interactive exhibits\, workshops\, and keynote presentations\, all aimed at shaping a more sustainable and inclusive future for these interconnected industries. \nJoin us on the 6 and 7 of November 2024 as we unite the worlds of land\, leisure\, and tourism to redefine tomorrow. \nIn an exciting development that mirrors the ever-evolving landscape of the industries\, the organisers are thrilled to announce the rebranding of these premier events – Farm Business Innovation\, Holiday Park and Resort Innovation\, Family Attraction Expo and Leisure Food and Beverage Expo – as the Land\, Leisure and Tourism Show (LLTS). \nThe commitment to these existing zones remains unwavering. They will continue to thrive and evolve within LLTS\, offering dedicated spaces for farmers and landowners\, holiday park owners\, family attraction creators and culinary enthusiasts. This consolidation ensures that each sector retains its unique identity and focuses on the specialised knowledge and networking opportunities visitors have come to expect.
URL:https://www.businessandindustrytoday.co.uk/event/land-leisure-tourism-show/
LOCATION:NEC\, Pendigo Way\, Marston Green\, Birmingham\, West Midlands\, B40 1NT\, United Kingdom
ATTACH;FMTTYPE=image/jpeg:https://www.businessandindustrytoday.co.uk/wp-content/uploads/2024/02/FarmBusinessInnovation_390_01.jpg
ORGANIZER;CN="Agriconnect Ltd":MAILTO:sales@agriconnect.com
END:VEVENT
BEGIN:VEVENT
DTSTART;TZID=Europe/London:20241113T090000
DTEND;TZID=Europe/London:20241114T170000
DTSTAMP:20260420T184834
CREATED:20240116T095508Z
LAST-MODIFIED:20240223T131437Z
UID:5149-1731488400-1731603600@www.businessandindustrytoday.co.uk
SUMMARY:The Business Show
DESCRIPTION:Shaping a golden future for business\nBusiness Show Media ends the year excited to launch into their next chapter; a golden 50th edition of the expo that started it all\, the longest-standing business event; The Business Show London. \nOn the 13th & 14th of November 2024\, the UK will see the biggest business event staged to date. Celebrating 50 editions of entrepreneurialism\, small businesses\, and innovation\, the team is going to deliver a spectacular show and will be pulling out all the stops. \nIn looking back at the history of The Business Show and its incorporation in 2000\, the organisation started as a magazine which was then competing with the introduction and increasing popularity of the internet. The team then switched industries and moved into the events sector hoping to support UK businesses and entrepreneurs\, allowing them to tap into a resource to help them create a startup and flourish. Since then\, the show has been unstoppable\, holding events year after year with each edition being bigger and better than the last. This culminated in Business Show Media’s global expansion in 2023\, launching in LA in September\, hosting the biggest and most spectacular show to date this November just passed\, and having The Business Show Miami on the horizon in March 2024. The event boasts a portfolio of editions now in London\, LA\, Miami\, and Asia\, with plans to expand further in the years to come. \nIn celebration of the incredible milestone\, the golden 50th edition will include past keynote speakers through the years returning to deliver some exceptional insights into their journey to success. The show will have the biggest brands returning to offer their products and services to skyrocket your business to success\, as well as suppliers who have been a part of the event for consecutive years. There will be an incredible awards ceremony hosted on the evening of the 13th of November to replace the usual exhibitor’s party. This will be a black-tie event where suppliers and speakers will have an opportunity to win prestigious business awards highlighting excellence in the industry. \nThere will also be a never-seen-before startup opportunity to win a £50\,000 package of business resources including £10\,000 cash to use as you please and support you in your dream venture. Prospective business owners will fill out a form on the website\, with a few being personally invited to the show to pitch their idea in front of a panel of experts. The winner will receive the prize worth £50K. You won’t want to miss out on this incredible opportunity! \nKeep an eye on the socials over the coming weeks as the team celebrates The Business Show London 2023 which has just passed and prepares for the golden 50th edition taking place at The ExCeL on the 13th & 14th of November 2024.
URL:https://www.businessandindustrytoday.co.uk/event/the-business-show/
LOCATION:ExCeL\, Royal Victoria Dock\, London\, E16 1XL\, United Kingdom
ATTACH;FMTTYPE=image/jpeg:https://www.businessandindustrytoday.co.uk/wp-content/uploads/2024/01/BusinessShow_389_01.jpg
ORGANIZER;CN="Business Show Media":MAILTO:enquiries@thebusinessshow.co.uk
END:VEVENT
END:VCALENDAR