BEGIN:VCALENDAR
VERSION:2.0
PRODID:-//Business &amp; Industry Today - ECPv6.15.18//NONSGML v1.0//EN
CALSCALE:GREGORIAN
METHOD:PUBLISH
X-WR-CALNAME:Business &amp; Industry Today
X-ORIGINAL-URL:https://www.businessandindustrytoday.co.uk
X-WR-CALDESC:Events for Business &amp; Industry Today
REFRESH-INTERVAL;VALUE=DURATION:PT1H
X-Robots-Tag:noindex
X-PUBLISHED-TTL:PT1H
BEGIN:VTIMEZONE
TZID:Europe/London
BEGIN:DAYLIGHT
TZOFFSETFROM:+0000
TZOFFSETTO:+0100
TZNAME:BST
DTSTART:20240331T010000
END:DAYLIGHT
BEGIN:STANDARD
TZOFFSETFROM:+0100
TZOFFSETTO:+0000
TZNAME:GMT
DTSTART:20241027T010000
END:STANDARD
BEGIN:DAYLIGHT
TZOFFSETFROM:+0000
TZOFFSETTO:+0100
TZNAME:BST
DTSTART:20250330T010000
END:DAYLIGHT
BEGIN:STANDARD
TZOFFSETFROM:+0100
TZOFFSETTO:+0000
TZNAME:GMT
DTSTART:20251026T010000
END:STANDARD
BEGIN:DAYLIGHT
TZOFFSETFROM:+0000
TZOFFSETTO:+0100
TZNAME:BST
DTSTART:20260329T010000
END:DAYLIGHT
BEGIN:STANDARD
TZOFFSETFROM:+0100
TZOFFSETTO:+0000
TZNAME:GMT
DTSTART:20261025T010000
END:STANDARD
END:VTIMEZONE
BEGIN:VEVENT
DTSTART;TZID=Europe/London:20250411T090000
DTEND;TZID=Europe/London:20250412T170000
DTSTAMP:20260420T114926
CREATED:20240709T143527Z
LAST-MODIFIED:20250311T094105Z
UID:5376-1744362000-1744477200@www.businessandindustrytoday.co.uk
SUMMARY:International Franchise Show London
DESCRIPTION:Following the overwhelming success of the 2024 edition\, the International Franchise Show is set to return to London’s Excel on the 11th and 12th of April 2025. This year\, the event promises to be bigger\, more dynamic\, and even more engaging as we continue to lead the way in the global franchising industry. \nIn 2024\, we welcomed a record-breaking 11\,474 attendees and saw a remarkable 91% of exhibitors rebook for 2025\, highlighting the event’s essential role as the premier platform for franchising professionals. Our unique ability to bring together franchisors\, investors\, and industry leaders to network\, collaborate\, and share knowledge has made the International Franchise Show the must-attend event of the year. \nHighlights for 2025: \n\nBiggest Ever Seen Exhibitor Showcase – In response to growing demand\, the 2025 show will feature an even larger and more diverse range of exhibitors from a wide variety of industries. With opportunities spanning food\, retail\, home services\, and beyond\, attendees will be able to explore all of the most new and exciting franchise opportunities from around the world.\nInternational Partnerships and Networking – We are excited to announce that we will be expanding our global reach in 2025. In addition to our longstanding partnership with the International Franchise Association (IFA)\, we are forging new relationships with key industry players across Europe\, North America\, and Asia. The result will be even greater opportunities for networking\, cross-border collaboration\, and international growth.\nExpert Seminars and Keynotes – The 2025 show will feature even more valuable learning experiences with expert-led seminars and keynote presentations from entrepreneurs like Lucy Campbell\, CEO of Right at Home UK\, and Siobhan Percy\, Head of Marketing at XplorerGroup. Renowned franchising professionals\, successful entrepreneurs\, and industry thought leaders will share their insights on topics such as scaling a franchise\, navigating legal challenges\, the future of franchise technology\, and more. The IFA will once again host high-impact sessions designed to equip both new and experienced franchisees with the tools they need for success.\nInteractive Features and Live Demos – Our commitment to innovation continues with the introduction of interactive features and live demonstrations\, offering attendees the opportunity to get hands-on experience with the latest franchise products\, services\, and technologies. From virtual reality walkthroughs to live cooking demos from top food franchise brands\, the 2025 show will be an immersive experience like never before.\nNetworking Opportunities – With more exhibitors\, more visitors\, and an expanded agenda\, the networking potential at the International Franchise Show 2025 will be unparalleled. New networking zones\, private meeting areas\, and exclusive business matchmaking sessions will make it easier than ever to meet the right people and form long-lasting partnerships.\n\nA thriving community of franchise professionals\nAs always\, the International Franchise Show remains dedicated to uniting the global franchising community. In 2025\, we will continue to facilitate collaborations that drive growth\, share valuable insights\, and foster an environment where franchisors and franchisees alike can thrive. With a growing focus on sustainability\, innovation\, and diversity\, the 2025 edition promises to be an even more forward-thinking event that reflects the evolving landscape of the franchise industry \n“We are incredibly proud of what we accomplished at the show in 2024 and are excited for what lies ahead in 2025\,” said our Event Director. “At the International Franchise Show 2025\, we’re bringing the largest and most diverse selection of franchises from across the globe\, offering you the perfect opportunity to discover your ideal franchise. We’re excited to continue uniting the most driven professionals from around the world to make connections and propel the industry forward.” \nThank you to our partners and sponsors\nWe would like to extend our gratitude to our incredible partners and sponsors\, including the IFA\, NatWest\, and all of our exhibitors for their ongoing support. Their commitment helps us to create a truly world-class event that continues to inspire and connect the franchising community. \nMark your calendars now for the 2025 edition of the International Franchise Show on April 11th and 12th at the Excel London. Whether you’re looking to invest in a franchise\, expand your business\, or simply gain insights into the franchising world\, the show is the place to be. \nGET YOUR FREE TICKET HERE
URL:https://www.businessandindustrytoday.co.uk/event/international-franchise-show-london-2/
LOCATION:ExCeL\, Royal Victoria Dock\, London\, E16 1XL\, United Kingdom
ATTACH;FMTTYPE=image/jpeg:https://www.businessandindustrytoday.co.uk/wp-content/uploads/2024/07/InternationalFranchiseShowLondon_394_02.jpg
ORGANIZER;CN="MFV NSE Events":MAILTO:marketing@thefranchiseshow.co.uk
END:VEVENT
BEGIN:VEVENT
DTSTART;TZID=Europe/London:20250429T090000
DTEND;TZID=Europe/London:20250501T180000
DTSTAMP:20260420T114926
CREATED:20240809T074748Z
LAST-MODIFIED:20250313T155034Z
UID:5428-1745917200-1746122400@www.businessandindustrytoday.co.uk
SUMMARY:Commercial Vehicle Show
DESCRIPTION:The Commercial Vehicle Show is the largest and most comprehensive road freight transport\, distribution\, and logistics event in the United Kingdom. The show offers commercial vehicle manufacturers\, dealers\, distributors\, and hundreds of sector suppliers an energetic event based on an established brand first launched in 2000. \nBrand new for 2024 is a 3 day class-leading on-site seminar to complement the extensive exhibition\, covering all of the ‘hot topics’ including\, ministerial announcements\, decarbonization\, and probably the most vital industry resource\, its people! \n\n\n\n\n\n\nThe seminar offers a whole host of commercial sponsorship opportunities to further promote brand awareness to industry colleagues\, but importantly decision makers with the authority to invest. \nWith all the latest vehicles\, trailers\, equipment\, and technology on display\, the 2024 Commercial Vehicle Show will be unmissable for thousands of decision-makers\, directors\, senior managers\, engineers\, and anyone operating commercial vehicles as part of their business. \nTo make life easier\, exhibitors can benefit from a pre-configured stand scaled to their individual requirements. Fully branded\, fully serviced\, and ready to go. \nFor operators\, it is the annual meeting place to network\, and for sector suppliers\, the ultimate event to showcase your brand and products to a huge audience of prospective customers. \nTo further promote the show\, its exhibitors\, and the wider industry\, the CV Show 2024 has just launched a dedicated 52-week multi-media news platform and a weekly outbound newsletter to a 60\,000+ visitor database. \nCV Show 2024 will be the year’s ultimate UK event for 300+ exhibitors to showcase their brands and products to a huge audience of prospective customers. \nDon’t miss out.
URL:https://www.businessandindustrytoday.co.uk/event/the-commercial-vehicle-show-2025/
LOCATION:NEC\, Pendigo Way\, Marston Green\, Birmingham\, West Midlands\, B40 1NT\, United Kingdom
ATTACH;FMTTYPE=image/jpeg:https://www.businessandindustrytoday.co.uk/wp-content/uploads/2024/08/TheCommercialVehicleShow_Event.jpg
END:VEVENT
END:VCALENDAR