BEGIN:VCALENDAR
VERSION:2.0
PRODID:-//Business &amp; Industry Today - ECPv6.15.18//NONSGML v1.0//EN
CALSCALE:GREGORIAN
METHOD:PUBLISH
X-ORIGINAL-URL:https://www.businessandindustrytoday.co.uk
X-WR-CALDESC:Events for Business &amp; Industry Today
REFRESH-INTERVAL;VALUE=DURATION:PT1H
X-Robots-Tag:noindex
X-PUBLISHED-TTL:PT1H
BEGIN:VTIMEZONE
TZID:Europe/London
BEGIN:DAYLIGHT
TZOFFSETFROM:+0000
TZOFFSETTO:+0100
TZNAME:BST
DTSTART:20240331T010000
END:DAYLIGHT
BEGIN:STANDARD
TZOFFSETFROM:+0100
TZOFFSETTO:+0000
TZNAME:GMT
DTSTART:20241027T010000
END:STANDARD
BEGIN:DAYLIGHT
TZOFFSETFROM:+0000
TZOFFSETTO:+0100
TZNAME:BST
DTSTART:20250330T010000
END:DAYLIGHT
BEGIN:STANDARD
TZOFFSETFROM:+0100
TZOFFSETTO:+0000
TZNAME:GMT
DTSTART:20251026T010000
END:STANDARD
BEGIN:DAYLIGHT
TZOFFSETFROM:+0000
TZOFFSETTO:+0100
TZNAME:BST
DTSTART:20260329T010000
END:DAYLIGHT
BEGIN:STANDARD
TZOFFSETFROM:+0100
TZOFFSETTO:+0000
TZNAME:GMT
DTSTART:20261025T010000
END:STANDARD
END:VTIMEZONE
BEGIN:VEVENT
DTSTART;TZID=Europe/London:20250603T090000
DTEND;TZID=Europe/London:20250604T180000
DTSTAMP:20260420T090516
CREATED:20240906T120333Z
LAST-MODIFIED:20240906T120333Z
UID:5468-1748941200-1749060000@www.businessandindustrytoday.co.uk
SUMMARY:IWLEX 2025
DESCRIPTION:An exhibition representative of today’s world\, shaped by the industry\, for the industry.\n\n\nA ‘purpose’ focused event which aims not only to provide an unparalleled place to do business but also to support the industry and the professionals within. \nInside Warehouse Logistics Expo (IWLEX 2025) is the UK’s only dedicated warehouse operations exhibition steered by warehouse logistics practitioners for practitioners. \nIWLEX is the most inclusive annual trade exhibition for the internal logistics and warehousing sector in the UK with a focus on well-being within our sector. \nThis new\, differentiated event will once again be FREE to attend and will have multiple FREE Conference streams.
URL:https://www.businessandindustrytoday.co.uk/event/iwlex-2025/
LOCATION:NAEC Stoneleigh\, Stoneleigh\, Kenilworth\, CV8 2LZ\, United Kingdom
ATTACH;FMTTYPE=image/jpeg:https://www.businessandindustrytoday.co.uk/wp-content/uploads/2024/09/IWLEX2025_Event.jpg
ORGANIZER;CN="IWLEX":MAILTO:nairnfoster@iwlex.co.uk
END:VEVENT
BEGIN:VEVENT
DTSTART;TZID=Europe/London:20250617T100000
DTEND;TZID=Europe/London:20250619T170000
DTSTAMP:20260420T090516
CREATED:20240906T115250Z
LAST-MODIFIED:20250430T080258Z
UID:5465-1750154400-1750352400@www.businessandindustrytoday.co.uk
SUMMARY:Multimodal 2025
DESCRIPTION:Since 2008\, Multimodal has been successfully building a supply chain and logistics community of shippers\, retailers\, manufacturers\, wholesalers\, importers  and  exporters  and  the suppliers who support them through the UK’s biggest logistics expo. \nAs the industry’s annual meeting place for cargo owners\, shippers\, and other supply chain professionals\, Multimodal offers attendees and exhibitors a space to innovate\, connect and make logistics more sustainable. Over 300 companies exhibited at Multimodal offering solutions across all modes\, together with the latest technological advances\, to help you make your supply chains more sustainable\, cost-effective and efficient. \nOur logistics trade show runs the gamut from awards and networking to expo spaces for trucking\, freight\, and rail companies representing the best and brightest in the industry. We celebrate logistics in all forms and strive to create events where you can grow your business and discover untapped potential. \nMultimodal 2024 was an all-round amazing success with 13\,003 attendees packing out Hall 4. Feedback from both exhibitors and visitors alike has been outstanding.  The free-to-attend supply chain conference streams were well respected across the industry with a theme of sustainability\, resilience\, technology and people. \nSessions presented by Logistics UK\, IOE&IT\, RFG\, BIFA\, UKWA and more\, ensured that topical aspects were at the forefront of the sessions and delivered by top-level speakers. Google Digital Garage presented three days of social and digital marketing and provided one-to-one mentoring opportunities.
URL:https://www.businessandindustrytoday.co.uk/event/multimodel-2025/
LOCATION:NEC\, Pendigo Way\, Marston Green\, Birmingham\, West Midlands\, B40 1NT\, United Kingdom
ATTACH;FMTTYPE=image/jpeg:https://www.businessandindustrytoday.co.uk/wp-content/uploads/2024/09/Multimodel2024_Event.jpg
ORGANIZER;CN="Clarion Events":MAILTO:info@clarionevents.com
END:VEVENT
END:VCALENDAR