BEGIN:VCALENDAR
VERSION:2.0
PRODID:-//Business &amp; Industry Today - ECPv6.15.18//NONSGML v1.0//EN
CALSCALE:GREGORIAN
METHOD:PUBLISH
X-ORIGINAL-URL:https://www.businessandindustrytoday.co.uk
X-WR-CALDESC:Events for Business &amp; Industry Today
REFRESH-INTERVAL;VALUE=DURATION:PT1H
X-Robots-Tag:noindex
X-PUBLISHED-TTL:PT1H
BEGIN:VTIMEZONE
TZID:Europe/London
BEGIN:DAYLIGHT
TZOFFSETFROM:+0000
TZOFFSETTO:+0100
TZNAME:BST
DTSTART:20230326T010000
END:DAYLIGHT
BEGIN:STANDARD
TZOFFSETFROM:+0100
TZOFFSETTO:+0000
TZNAME:GMT
DTSTART:20231029T010000
END:STANDARD
BEGIN:DAYLIGHT
TZOFFSETFROM:+0000
TZOFFSETTO:+0100
TZNAME:BST
DTSTART:20240331T010000
END:DAYLIGHT
BEGIN:STANDARD
TZOFFSETFROM:+0100
TZOFFSETTO:+0000
TZNAME:GMT
DTSTART:20241027T010000
END:STANDARD
BEGIN:DAYLIGHT
TZOFFSETFROM:+0000
TZOFFSETTO:+0100
TZNAME:BST
DTSTART:20250330T010000
END:DAYLIGHT
BEGIN:STANDARD
TZOFFSETFROM:+0100
TZOFFSETTO:+0000
TZNAME:GMT
DTSTART:20251026T010000
END:STANDARD
END:VTIMEZONE
BEGIN:VEVENT
DTSTART;TZID=Europe/London:20241009T100000
DTEND;TZID=Europe/London:20241010T160000
DTSTAMP:20260421T113613
CREATED:20231016T102336Z
LAST-MODIFIED:20240223T131533Z
UID:4939-1728468000-1728576000@www.businessandindustrytoday.co.uk
SUMMARY:Engineering Design Show
DESCRIPTION:The Engineering Design Show (EDS) will return to The Coventry Building Society Arena on the 9th – 10th of October 2024. \nEDS has been showcasing the very best of mechanical\, electronics and embedded design for over a decade. It is THE show for design engineers who are looking for direct access to the latest products\, services and innovations available to the sector. \nFind the solution to your design dilemma at an exhibition of over 200 solution providers\, boost your professional development at free-to-attend conference sessions\, get expert advice at practical workshops\, and discover the latest engineering applications and technologies at EDS. \nFor over a decade\, EDS has been delivering engineering buyers\, not browsers\, and is a must attend event for anyone wanting to access this difficult to reach audience. Exhibiting at EDS is the most effective way of maximising your organisation’s exposure to the UK’s design engineering community.
URL:https://www.businessandindustrytoday.co.uk/event/engineering-design-show/
LOCATION:Coventry Building Society Arena\, Judds Lane\, Longford\, Coventry\, CV6 6AQ\, United Kingdom
ATTACH;FMTTYPE=image/jpeg:https://www.businessandindustrytoday.co.uk/wp-content/uploads/2023/10/EngineeringDesign_385_01.jpg
END:VEVENT
END:VCALENDAR