BEGIN:VCALENDAR
VERSION:2.0
PRODID:-//Business &amp; Industry Today - ECPv6.15.18//NONSGML v1.0//EN
CALSCALE:GREGORIAN
METHOD:PUBLISH
X-ORIGINAL-URL:https://www.businessandindustrytoday.co.uk
X-WR-CALDESC:Events for Business &amp; Industry Today
REFRESH-INTERVAL;VALUE=DURATION:PT1H
X-Robots-Tag:noindex
X-PUBLISHED-TTL:PT1H
BEGIN:VTIMEZONE
TZID:Europe/London
BEGIN:DAYLIGHT
TZOFFSETFROM:+0000
TZOFFSETTO:+0100
TZNAME:BST
DTSTART:20230326T010000
END:DAYLIGHT
BEGIN:STANDARD
TZOFFSETFROM:+0100
TZOFFSETTO:+0000
TZNAME:GMT
DTSTART:20231029T010000
END:STANDARD
BEGIN:DAYLIGHT
TZOFFSETFROM:+0000
TZOFFSETTO:+0100
TZNAME:BST
DTSTART:20240331T010000
END:DAYLIGHT
BEGIN:STANDARD
TZOFFSETFROM:+0100
TZOFFSETTO:+0000
TZNAME:GMT
DTSTART:20241027T010000
END:STANDARD
BEGIN:DAYLIGHT
TZOFFSETFROM:+0000
TZOFFSETTO:+0100
TZNAME:BST
DTSTART:20250330T010000
END:DAYLIGHT
BEGIN:STANDARD
TZOFFSETFROM:+0100
TZOFFSETTO:+0000
TZNAME:GMT
DTSTART:20251026T010000
END:STANDARD
END:VTIMEZONE
BEGIN:VEVENT
DTSTART;TZID=Europe/London:20240515T080000
DTEND;TZID=Europe/London:20240516T170000
DTSTAMP:20260421T172808
CREATED:20231031T162253Z
LAST-MODIFIED:20240223T131838Z
UID:4969-1715760000-1715878800@www.businessandindustrytoday.co.uk
SUMMARY:Accountex London
DESCRIPTION:Accountex has everything you\, and your business\, need to succeed. It brings together over 295 top fintech companies and provides a CPD accredited education programme. \nYou can see software demos from major fintech brands and cutting-edge start ups. The brightest minds in the business will show you how to navigate challenges and where to find opportunities for growth. You will walk away with new ideas and feeling confident about the future. \nIt’s completely free to visit. And you get up to 16 CPD points for attending. \nDiscover over 295 software and service suppliers including Sage\, FreeAgent\, Intuit Quickbooks and Xero\, as well as new companies breaking the mould. Alongside the exhibition\, you will find 13 theatres featuring expert speakers and the most critical thinkers in accountancy and finance. \nSign up to our mailing list and be the first to receive updates when registration opens.
URL:https://www.businessandindustrytoday.co.uk/event/accountex-london/
LOCATION:ExCeL\, Royal Victoria Dock\, London\, E16 1XL\, United Kingdom
ATTACH;FMTTYPE=image/jpeg:https://www.businessandindustrytoday.co.uk/wp-content/uploads/2023/10/Accountex_386_02.jpg
ORGANIZER;CN="Diversified Communications":MAILTO:info@divcom.co.uk
END:VEVENT
END:VCALENDAR