BEGIN:VCALENDAR
VERSION:2.0
PRODID:-//Business &amp; Industry Today - ECPv6.15.18//NONSGML v1.0//EN
CALSCALE:GREGORIAN
METHOD:PUBLISH
X-WR-CALNAME:Business &amp; Industry Today
X-ORIGINAL-URL:https://www.businessandindustrytoday.co.uk
X-WR-CALDESC:Events for Business &amp; Industry Today
REFRESH-INTERVAL;VALUE=DURATION:PT1H
X-Robots-Tag:noindex
X-PUBLISHED-TTL:PT1H
BEGIN:VTIMEZONE
TZID:Europe/London
BEGIN:DAYLIGHT
TZOFFSETFROM:+0000
TZOFFSETTO:+0100
TZNAME:BST
DTSTART:20230326T010000
END:DAYLIGHT
BEGIN:STANDARD
TZOFFSETFROM:+0100
TZOFFSETTO:+0000
TZNAME:GMT
DTSTART:20231029T010000
END:STANDARD
BEGIN:DAYLIGHT
TZOFFSETFROM:+0000
TZOFFSETTO:+0100
TZNAME:BST
DTSTART:20240331T010000
END:DAYLIGHT
BEGIN:STANDARD
TZOFFSETFROM:+0100
TZOFFSETTO:+0000
TZNAME:GMT
DTSTART:20241027T010000
END:STANDARD
BEGIN:DAYLIGHT
TZOFFSETFROM:+0000
TZOFFSETTO:+0100
TZNAME:BST
DTSTART:20250330T010000
END:DAYLIGHT
BEGIN:STANDARD
TZOFFSETFROM:+0100
TZOFFSETTO:+0000
TZNAME:GMT
DTSTART:20251026T010000
END:STANDARD
END:VTIMEZONE
BEGIN:VEVENT
DTSTART;TZID=Europe/London:20240917T080000
DTEND;TZID=Europe/London:20240917T170000
DTSTAMP:20260421T113624
CREATED:20231031T163740Z
LAST-MODIFIED:20240223T131628Z
UID:4975-1726560000-1726592400@www.businessandindustrytoday.co.uk
SUMMARY:Accountex Summit Manchester
DESCRIPTION:Accountex Summit Manchester returned to Manchester Central on the 19 September. Thousands of accountants\, bookkeepers and finance professionals joined us to stay up-to-date with the latest tech\, trends and legislation. \n2023 saw the biggest event yet with 100+ accountancy and finance suppliers exhibiting and 32 CPD-accredited seminars. \nFind out how the experts do it! Take away actionable tips from over 30 CPD-accredited seminars. Presented by industry leaders the programme will be informative\, practical and thought-provoking. \nDon’t waste time researching new solutions from your desk. In just 1 day you can discover over 100 top software and service suppliers. Demo their latest tools in person and ask questions face-to-face. \nMeet new people and grow your work network. The event brings together 2500+ accountants\, in-house finance professionals\, bookkeepers and more from all over the north of the UK. \nFind everything you need to succeed in the world of accountancy and finance when we return on 17 September 2024. Want to be the first to know when free visitor registration opens? Join the mailing list.
URL:https://www.businessandindustrytoday.co.uk/event/accountex-summit-manchester/
LOCATION:Manchester Central\, Windmill Street\, Manchester\, M2 3GX\, United Kingdom
ATTACH;FMTTYPE=image/jpeg:https://www.businessandindustrytoday.co.uk/wp-content/uploads/2023/10/Accountex_386_01.jpg
ORGANIZER;CN="Diversified Communications":MAILTO:info@divcom.co.uk
END:VEVENT
END:VCALENDAR