BEGIN:VCALENDAR
VERSION:2.0
PRODID:-//Business &amp; Industry Today - ECPv6.15.18//NONSGML v1.0//EN
CALSCALE:GREGORIAN
METHOD:PUBLISH
X-WR-CALNAME:Business &amp; Industry Today
X-ORIGINAL-URL:https://www.businessandindustrytoday.co.uk
X-WR-CALDESC:Events for Business &amp; Industry Today
REFRESH-INTERVAL;VALUE=DURATION:PT1H
X-Robots-Tag:noindex
X-PUBLISHED-TTL:PT1H
BEGIN:VTIMEZONE
TZID:Europe/London
BEGIN:DAYLIGHT
TZOFFSETFROM:+0000
TZOFFSETTO:+0100
TZNAME:BST
DTSTART:20240331T010000
END:DAYLIGHT
BEGIN:STANDARD
TZOFFSETFROM:+0100
TZOFFSETTO:+0000
TZNAME:GMT
DTSTART:20241027T010000
END:STANDARD
BEGIN:DAYLIGHT
TZOFFSETFROM:+0000
TZOFFSETTO:+0100
TZNAME:BST
DTSTART:20250330T010000
END:DAYLIGHT
BEGIN:STANDARD
TZOFFSETFROM:+0100
TZOFFSETTO:+0000
TZNAME:GMT
DTSTART:20251026T010000
END:STANDARD
BEGIN:DAYLIGHT
TZOFFSETFROM:+0000
TZOFFSETTO:+0100
TZNAME:BST
DTSTART:20260329T010000
END:DAYLIGHT
BEGIN:STANDARD
TZOFFSETFROM:+0100
TZOFFSETTO:+0000
TZNAME:GMT
DTSTART:20261025T010000
END:STANDARD
END:VTIMEZONE
BEGIN:VEVENT
DTSTART;TZID=Europe/London:20251112T100000
DTEND;TZID=Europe/London:20251113T160000
DTSTAMP:20260420T102730
CREATED:20250827T084558Z
LAST-MODIFIED:20251027T123356Z
UID:5859-1762941600-1763049600@www.businessandindustrytoday.co.uk
SUMMARY:The Business Show 2025
DESCRIPTION:If you’re starting or growing your business\, there are plenty of opportunities out there – but many often come with steep fees and expensive tickets. Now\, picture a two-day event that’s completely free to attend\, filled with expert advice\, hands-on support\, and access to hundreds of top business services from across the UK – all in one place. \nHear from successful entrepreneurs and business infl uencers\, some with audiences in the millions\, as they share their stories and advice in powerful keynote sessions. These are people who once started just like you. Whether you’re launching\, growing\, or expanding\, this event is where business moves forward. \nGrab your free ticket here.
URL:https://www.businessandindustrytoday.co.uk/event/the-business-show-2/
LOCATION:ExCeL\, Royal Victoria Dock\, London\, E16 1XL\, United Kingdom
ATTACH;FMTTYPE=image/jpeg:https://www.businessandindustrytoday.co.uk/wp-content/uploads/2025/08/BusinessShow_406_01.jpg
ORGANIZER;CN="Business Show Media":MAILTO:enquiries@thebusinessshow.co.uk
END:VEVENT
END:VCALENDAR